BEGIN:VCALENDAR
VERSION:2.0
PRODID:-//We Lead Project - ECPv6.15.20//NONSGML v1.0//EN
CALSCALE:GREGORIAN
METHOD:PUBLISH
X-ORIGINAL-URL:https://weleadproject.eu
X-WR-CALDESC:Events for We Lead Project
REFRESH-INTERVAL;VALUE=DURATION:PT1H
X-Robots-Tag:noindex
X-PUBLISHED-TTL:PT1H
BEGIN:VTIMEZONE
TZID:UTC
BEGIN:STANDARD
TZOFFSETFROM:+0000
TZOFFSETTO:+0000
TZNAME:UTC
DTSTART:20230101T000000
END:STANDARD
END:VTIMEZONE
BEGIN:VEVENT
DTSTART;TZID=UTC:20240613T120000
DTEND;TZID=UTC:20240613T130000
DTSTAMP:20260422T143414
CREATED:20240715T180408Z
LAST-MODIFIED:20240926T105107Z
UID:760-1718280000-1718283600@weleadproject.eu
SUMMARY:INSTO Insights Webinar on Measuring Accessibility at the Destination Level
DESCRIPTION:Travelling can be a major challenge for the 16% of the world´s population who experience significant disability. Around 1.3 billion people face major physical\, sensory\, cognitive and cultural barriers on a daily basis. Accessibility is a human right\, but also a business opportunity for the tourism destinations and the entire business ecosystem of the travel value chain.
URL:https://weleadproject.eu/event/insto-insights-webinar-on-measuring-accessibility-at-the-destination-level/
END:VEVENT
END:VCALENDAR