BEGIN:VCALENDAR
VERSION:2.0
PRODID:-//We Lead Project - ECPv6.15.20//NONSGML v1.0//EN
CALSCALE:GREGORIAN
METHOD:PUBLISH
X-WR-CALNAME:We Lead Project
X-ORIGINAL-URL:https://weleadproject.eu
X-WR-CALDESC:Events for We Lead Project
REFRESH-INTERVAL;VALUE=DURATION:PT1H
X-Robots-Tag:noindex
X-PUBLISHED-TTL:PT1H
BEGIN:VTIMEZONE
TZID:UTC
BEGIN:STANDARD
TZOFFSETFROM:+0000
TZOFFSETTO:+0000
TZNAME:UTC
DTSTART:20230101T000000
END:STANDARD
END:VTIMEZONE
BEGIN:VEVENT
DTSTART;TZID=UTC:20240912T000000
DTEND;TZID=UTC:20240913T235959
DTSTAMP:20260422T175946
CREATED:20240926T112135Z
LAST-MODIFIED:20240926T112135Z
UID:1009-1726099200-1726271999@weleadproject.eu
SUMMARY:Rise & Lead Summit 2024
DESCRIPTION:A two-day event featuring senior executives and thought leaders discussing DEI trends\, leadership strategies\, and business development. The summit focuses on accelerating women’s journey to leadership roles and includes interactive workshops\, keynote speeches\, and networking opportunities.
URL:https://weleadproject.eu/event/rise-lead-summit-2024/
LOCATION:The Hague\, Netherlands\, Netherlands
END:VEVENT
END:VCALENDAR