BEGIN:VCALENDAR
VERSION:2.0
PRODID:-//We Lead Project - ECPv6.15.20//NONSGML v1.0//EN
CALSCALE:GREGORIAN
METHOD:PUBLISH
X-WR-CALNAME:We Lead Project
X-ORIGINAL-URL:https://weleadproject.eu
X-WR-CALDESC:Events for We Lead Project
REFRESH-INTERVAL;VALUE=DURATION:PT1H
X-Robots-Tag:noindex
X-PUBLISHED-TTL:PT1H
BEGIN:VTIMEZONE
TZID:UTC
BEGIN:STANDARD
TZOFFSETFROM:+0000
TZOFFSETTO:+0000
TZNAME:UTC
DTSTART:20230101T000000
END:STANDARD
END:VTIMEZONE
BEGIN:VEVENT
DTSTART;TZID=UTC:20240917T000000
DTEND;TZID=UTC:20240919T235959
DTSTAMP:20260422T181319
CREATED:20240926T131958Z
LAST-MODIFIED:20240926T131958Z
UID:1139-1726531200-1726790399@weleadproject.eu
SUMMARY:IFTM Top Resa Paris
DESCRIPTION:The IFTM Top Resa Paris event in France is a platform to learn about the latest travel market trends and accelerating business by networking. During and after this diverse travel trade show\, the participants will have the opportunity to maintain their network and meet new buyers from France and the rest of the world. With over 20\,000 visitors and 500 exhibitors\, the industry-leading IFTM Top Resa Paris will be bringing together the entire tourism sector in a 4-day event with an exciting and informative agenda.
URL:https://weleadproject.eu/event/iftm-top-resa-paris/
END:VEVENT
END:VCALENDAR