BEGIN:VCALENDAR
VERSION:2.0
PRODID:-//We Lead Project - ECPv6.15.20//NONSGML v1.0//EN
CALSCALE:GREGORIAN
METHOD:PUBLISH
X-ORIGINAL-URL:https://weleadproject.eu
X-WR-CALDESC:Events for We Lead Project
REFRESH-INTERVAL;VALUE=DURATION:PT1H
X-Robots-Tag:noindex
X-PUBLISHED-TTL:PT1H
BEGIN:VTIMEZONE
TZID:UTC
BEGIN:STANDARD
TZOFFSETFROM:+0000
TZOFFSETTO:+0000
TZNAME:UTC
DTSTART:20230101T000000
END:STANDARD
END:VTIMEZONE
BEGIN:VEVENT
DTSTART;TZID=UTC:20240922T000000
DTEND;TZID=UTC:20240923T235959
DTSTAMP:20260422T192943
CREATED:20240926T112321Z
LAST-MODIFIED:20240926T112321Z
UID:1014-1726963200-1727135999@weleadproject.eu
SUMMARY:Women's Economic Forum (WEF) Greece 2024
DESCRIPTION:This event aims to empower women in business and leadership\, focusing on economic growth\, sustainable development\, and women’s leadership in sectors like tourism\, health\, and education. It offers networking opportunities\, panel discussions\, and workshops with global leaders.
URL:https://weleadproject.eu/event/womens-economic-forum-wef-greece-2024/
LOCATION:Eugenides Foundation\, Athens\, Greece
END:VEVENT
END:VCALENDAR