BEGIN:VCALENDAR
VERSION:2.0
PRODID:-//We Lead Project - ECPv6.15.20//NONSGML v1.0//EN
CALSCALE:GREGORIAN
METHOD:PUBLISH
X-ORIGINAL-URL:https://weleadproject.eu
X-WR-CALDESC:Events for We Lead Project
REFRESH-INTERVAL;VALUE=DURATION:PT1H
X-Robots-Tag:noindex
X-PUBLISHED-TTL:PT1H
BEGIN:VTIMEZONE
TZID:UTC
BEGIN:STANDARD
TZOFFSETFROM:+0000
TZOFFSETTO:+0000
TZNAME:UTC
DTSTART:20230101T000000
END:STANDARD
END:VTIMEZONE
BEGIN:VEVENT
DTSTART;TZID=UTC:20240924T120000
DTEND;TZID=UTC:20240924T124500
DTSTAMP:20260422T193039
CREATED:20240715T180408Z
LAST-MODIFIED:20240926T110627Z
UID:763-1727179200-1727181900@weleadproject.eu
SUMMARY:Role Models for Inclusion LIVE - Hospitality\, Travel and Leisure
DESCRIPTION:To celebrate National Inclusion Week we’re hosting three live sessions with role models across the Hospitality\, Travel\, Leisure (HTL) and Retail sectors who were recognised in the WiHTL & DiR Role Models for Inclusion Index.
URL:https://weleadproject.eu/event/role-models-for-inclusion-live-hospitality-travel-and-leisure/
END:VEVENT
END:VCALENDAR