BEGIN:VCALENDAR
VERSION:2.0
PRODID:-//We Lead Project - ECPv6.15.20//NONSGML v1.0//EN
CALSCALE:GREGORIAN
METHOD:PUBLISH
X-ORIGINAL-URL:https://weleadproject.eu
X-WR-CALDESC:Events for We Lead Project
REFRESH-INTERVAL;VALUE=DURATION:PT1H
X-Robots-Tag:noindex
X-PUBLISHED-TTL:PT1H
BEGIN:VTIMEZONE
TZID:UTC
BEGIN:STANDARD
TZOFFSETFROM:+0000
TZOFFSETTO:+0000
TZNAME:UTC
DTSTART:20230101T000000
END:STANDARD
END:VTIMEZONE
BEGIN:VEVENT
DTSTART;TZID=UTC:20240925T000000
DTEND;TZID=UTC:20240927T235959
DTSTAMP:20260422T181729
CREATED:20240926T112505Z
LAST-MODIFIED:20240926T112505Z
UID:1019-1727222400-1727481599@weleadproject.eu
SUMMARY:8th Annual Global Women in Leadership Summit
DESCRIPTION:A major gathering of women leaders\, featuring workshops on leadership development\, personal branding\, and diversity. This event also includes a pre-conference intensive workshop\, offering tools and strategies to foster women’s leadership in various industries\, including tourism.
URL:https://weleadproject.eu/event/8th-annual-global-women-in-leadership-summit/
LOCATION:Amsterdam\, Netherlands\, Netherlands
END:VEVENT
BEGIN:VEVENT
DTSTART;TZID=UTC:20240926T000000
DTEND;TZID=UTC:20240926T235959
DTSTAMP:20260422T181729
CREATED:20240926T111821Z
LAST-MODIFIED:20240926T111821Z
UID:998-1727308800-1727395199@weleadproject.eu
SUMMARY:Travel Weekly Inspiring Women Retreat 2024
DESCRIPTION:This exclusive retreat\, hosted by the Greek National Tourism Organisation\, aims to inspire women from the travel industry through networking\, mentoring\, and discussions. It builds on the success of Travel Weekly’s past events for women in travel.
URL:https://weleadproject.eu/event/travel-weekly-inspiring-women-retreat-2024/
LOCATION:Athens\, Greece
END:VEVENT
BEGIN:VEVENT
DTSTART;TZID=UTC:20240926T114528
DTEND;TZID=UTC:20240926T114528
DTSTAMP:20260422T181729
CREATED:20240715T180428Z
LAST-MODIFIED:20240926T114527Z
UID:773-1727351128-1727351128@weleadproject.eu
SUMMARY:CONFERENCIANTES MUJERES SOBRE LIDERAZGO
DESCRIPTION:Contrata a las mejores ponentes\, conferencistas y expertas de liderazgo para tu evento.Somos la agencia de conferenciantes con los mejores conferencistas que hablan sobre el empoderamiento y el liderazgo femenino. Contamos con un amplio catálogo de presentadores de eventos\, ponentes para conferencias y expertos en liderazgo\, feminismo y negocios. Las charlas de nuestras ponentes tratan acerca de lo crucial que es la diversidad en las empresas y cómo el liderazgo de las mujeres genera un cambio social positivo.
URL:https://weleadproject.eu/event/conferenciantes-mujeres-sobre-liderazgo/
END:VEVENT
BEGIN:VEVENT
DTSTART;TZID=UTC:20240926T115410
DTEND;TZID=UTC:20240926T115410
DTSTAMP:20260422T181729
CREATED:20240715T180539Z
LAST-MODIFIED:20240926T115410Z
UID:777-1727351650-1727351650@weleadproject.eu
SUMMARY:Programa de Empoderamiento y Liderazgo para Mujeres. Liderar a otras personas
DESCRIPTION:Mediante la ejecución de este programa de empoderamiento y liderazgo femenino\, se busca otorgar a las mujeres herramientas que les permita reconocer su propio poder para superar las barreras sociales\, económicas y empresariales\, con las que se pueden encontrar en su futuro en el ámbito personal y sobretodo\, en el laboral. Dicho programa consta de 3 cursos a los que las mujeres pueden acceder de manera independiente\, en cada uno de los cuales se les otorgarán herramientas específicas. En este curso de Liderar a otras personas las mujeres tomarán conciencia conocerán los estilos de liderazgo que más se ajusta a su persona\, con el fin de que puedan desarrollarlo en su ámbito laboral (y generalizar al personal) incrementando de este modo su desempeño laboral actual o futuro.
URL:https://weleadproject.eu/event/programa-de-empoderamiento-y-liderazgo-para-mujeres-liderar-a-otras-personas/
END:VEVENT
BEGIN:VEVENT
DTSTART;TZID=UTC:20240926T123344
DTEND;TZID=UTC:20240926T123344
DTSTAMP:20260422T181729
CREATED:20240715T180953Z
LAST-MODIFIED:20240926T123344Z
UID:790-1727354024-1727354024@weleadproject.eu
SUMMARY:Level 6 Certificate in Sustainable Tourism Destinations
DESCRIPTION:An innovative 12 week programme proven to make 'Sustainability' make sense for businesses in your destination...Empower the businesses in your destination to feel confident in the area of sustainability and climate action
URL:https://weleadproject.eu/event/level-6-certificate-in-sustainable-tourism-destinations/
END:VEVENT
BEGIN:VEVENT
DTSTART;TZID=UTC:20240926T124550
DTEND;TZID=UTC:20240926T124550
DTSTAMP:20260422T181729
CREATED:20240715T180954Z
LAST-MODIFIED:20240926T124550Z
UID:793-1727354750-1727354750@weleadproject.eu
SUMMARY:Inspiring Sustainable Tourism COnference
DESCRIPTION:This will be the second ever held Conference on Inspiring Sustainable Tourism\, it will involve an agenda full of inspiring speakers and workshops
URL:https://weleadproject.eu/event/inspiring-sustainable-tourism-conference/
END:VEVENT
BEGIN:VEVENT
DTSTART;TZID=UTC:20240926T130515
DTEND;TZID=UTC:20240926T130515
DTSTAMP:20260422T181729
CREATED:20240926T130514Z
LAST-MODIFIED:20240926T130514Z
UID:1106-1727355915-1727355915@weleadproject.eu
SUMMARY:13th Annual Business Tourism Conference
DESCRIPTION:The Association of Irish Professional Conference Organisers (AIPCO) is a non-profit organisation that is the premier professional association for conference organisers in Ireland. Our association is committed to raising standards of service among its members and other sectors of the meetings industry by means of continuing education and interaction with other professionals.
URL:https://weleadproject.eu/event/13th-annual-business-tourism-conference/
END:VEVENT
END:VCALENDAR