BEGIN:VCALENDAR
VERSION:2.0
PRODID:-//We Lead Project - ECPv6.15.20//NONSGML v1.0//EN
CALSCALE:GREGORIAN
METHOD:PUBLISH
X-WR-CALNAME:We Lead Project
X-ORIGINAL-URL:https://weleadproject.eu
X-WR-CALDESC:Events for We Lead Project
REFRESH-INTERVAL;VALUE=DURATION:PT1H
X-Robots-Tag:noindex
X-PUBLISHED-TTL:PT1H
BEGIN:VTIMEZONE
TZID:UTC
BEGIN:STANDARD
TZOFFSETFROM:+0000
TZOFFSETTO:+0000
TZNAME:UTC
DTSTART:20230101T000000
END:STANDARD
END:VTIMEZONE
BEGIN:VEVENT
DTSTART;TZID=UTC:20241022T000000
DTEND;TZID=UTC:20251031T235959
DTSTAMP:20260422T211547
CREATED:20240715T180539Z
LAST-MODIFIED:20240926T123930Z
UID:778-1729555200-1761955199@weleadproject.eu
SUMMARY:Premio Mujer y Liderzago
DESCRIPTION:DIRIGIDO A MUJERES PROFESIONALES CON ALTO POTENCIAL QUE DESEEN IMPULSAR SU CARRERA A TRAVÉS DE LA FORMACIÓN Y QUE CONECTEN CON NUESTROS VALORES. Objetivo. Visualizar\, Reconocer\, Motivar
URL:https://weleadproject.eu/event/premio-mujer-y-liderzago/
END:VEVENT
BEGIN:VEVENT
DTSTART;TZID=UTC:20241031T000000
DTEND;TZID=UTC:20241101T235959
DTSTAMP:20260422T211547
CREATED:20240715T180554Z
LAST-MODIFIED:20240926T120124Z
UID:783-1730332800-1730505599@weleadproject.eu
SUMMARY:Þjóðarspegillinn
DESCRIPTION:Ráðstefna Þjóðarspegilsins hefur verið haldin frá því árið 1994. Frá upphafi hefur verið lögð mikil áhersla?á?að hún sé ekki aðeins vettvangur fyrir fræðafólk að ræða hvert við annað heldur einnig vettvangur fyrir virkt samtal félagsvísindanna við samfélagið utan veggja háskólanna
URL:https://weleadproject.eu/event/thjodarspegillinn/
END:VEVENT
BEGIN:VEVENT
DTSTART;TZID=UTC:20241119T000000
DTEND;TZID=UTC:20241120T235959
DTSTAMP:20260422T211547
CREATED:20240715T180953Z
LAST-MODIFIED:20240926T124041Z
UID:791-1731974400-1732147199@weleadproject.eu
SUMMARY:International Regenerative Tourism Conference
DESCRIPTION:The aim of the conference is to explore the future of sustainable tourism through a regenerative lens.
URL:https://weleadproject.eu/event/international-regenerative-tourism-conference/
LOCATION:Dingle Skellig Hotel\, Dingle\, Co.Kerry\, Ireland\, Ireland
END:VEVENT
BEGIN:VEVENT
DTSTART;TZID=UTC:20241119T000000
DTEND;TZID=UTC:20241120T235959
DTSTAMP:20260422T211547
CREATED:20240715T180954Z
LAST-MODIFIED:20240926T124208Z
UID:792-1731974400-1732147199@weleadproject.eu
SUMMARY:Tourism and Hospitality Research in Ireland Conference (THRIC)
DESCRIPTION:This conference will welcome stakeholders including tourism businesses\, academics\, policy makers\, destination management organisations\, tourism bodies\, climate leaders and local authorities. Over two days attendees will consider strategies for\, and examples of\, a more holistic\, balanced approach to tourism development\, which will deliver net positive benefits for businesses\, communities and the environment.
URL:https://weleadproject.eu/event/tourism-and-hospitality-research-in-ireland-conference-thric/
LOCATION:Dingle Skellig Hotel\, Dingle\, Co.Kerry\, Ireland\, Ireland
END:VEVENT
END:VCALENDAR