BEGIN:VCALENDAR
VERSION:2.0
PRODID:-//We Lead Project - ECPv6.15.20//NONSGML v1.0//EN
CALSCALE:GREGORIAN
METHOD:PUBLISH
X-WR-CALNAME:We Lead Project
X-ORIGINAL-URL:https://weleadproject.eu
X-WR-CALDESC:Events for We Lead Project
REFRESH-INTERVAL;VALUE=DURATION:PT1H
X-Robots-Tag:noindex
X-PUBLISHED-TTL:PT1H
BEGIN:VTIMEZONE
TZID:UTC
BEGIN:STANDARD
TZOFFSETFROM:+0000
TZOFFSETTO:+0000
TZNAME:UTC
DTSTART:20230101T000000
END:STANDARD
END:VTIMEZONE
BEGIN:VEVENT
DTSTART;TZID=UTC:20240529T000000
DTEND;TZID=UTC:20240529T235959
DTSTAMP:20260422T194447
CREATED:20240715T180427Z
LAST-MODIFIED:20240926T114327Z
UID:771-1716940800-1717027199@weleadproject.eu
SUMMARY:La jornada conexción
DESCRIPTION:Promover un diálogo abierto desde el liderazgo femenino y la nueva masculinidad para generar conocimientos\, experiencias y conexiones para un crecimiento profesional.
URL:https://weleadproject.eu/event/la-jornada-conexcion/
END:VEVENT
BEGIN:VEVENT
DTSTART;TZID=UTC:20240520T000000
DTEND;TZID=UTC:20240526T235959
DTSTAMP:20260422T194447
CREATED:20240715T180538Z
LAST-MODIFIED:20240926T115133Z
UID:775-1716163200-1716767999@weleadproject.eu
SUMMARY:Semana nuevos modelos de liderazgo
DESCRIPTION:Sobre: - Liderazgo autónomo y emprendedor - Cambiando el mundo como profesional independiente; -Investigando y pensando en el futuro de la I.A. - Los desafíos que afrontamos con los avances de la I.A.; - Intraemprendimiento e Innovación abierta como motor de crecimiento para PyMEs; - Liderazgo emprendedor en tiempos de RRSS - Sesión en vivo con un influencer; -Liderazgo en zapatillas - Como cualquier persona puede generar impacto; - Liderazgo no Convencional - Historias reales y aprendizajes desde la trinchera
URL:https://weleadproject.eu/event/semana-nuevos-modelos-de-liderazgo/
END:VEVENT
BEGIN:VEVENT
DTSTART;TZID=UTC:20240425T000000
DTEND;TZID=UTC:20240425T235959
DTSTAMP:20260422T194447
CREATED:20240715T180412Z
LAST-MODIFIED:20240926T113935Z
UID:768-1714003200-1714089599@weleadproject.eu
SUMMARY:SWE´24. Salón Mujer y Empresa. El evento profesional sobre liderazgo y Talento feminino.
DESCRIPTION:El Salón Mujer y Empresa es el evento profesional enfocado a Liderzgo y Talento femenino\, organizado por INTRAMA.El objetivo del Evento es dotar de herramientas adecuadas a todas las personas asistentes para poder: - Liderar desde la inclusión y la transformación.\n- Equilibrio entre la vida personal y profesional para alcanzar el Bienestar.\n- Eliminar creencias limitantes y sesgos inconscientes.\n- Adquirir herramientas para emplear una comunicación inclusiva.\n- Generar compromiso de los hombres con el empoderamiento femenino.\n- Implementar estrategias efectivas en materia de Talento femenino.\n- Potenciar la presencia de mujeres en sectores masculinizados.
URL:https://weleadproject.eu/event/swe24-salon-mujer-y-empresa-el-evento-profesional-sobre-liderazgo-y-talento-feminino/
END:VEVENT
BEGIN:VEVENT
DTSTART;TZID=UTC:20240306T000000
DTEND;TZID=UTC:20240308T235959
DTSTAMP:20260422T194447
CREATED:20240926T112008Z
LAST-MODIFIED:20240926T112008Z
UID:1004-1709683200-1709942399@weleadproject.eu
SUMMARY:2024 Women in Travel & Hospitality Conference
DESCRIPTION:A premier event for women in the travel\, tourism\, and hospitality industries. It showcases inspiring stories of female entrepreneurship and leadership within these sectors\, offering insights into industry trends and networking opportunities with professionals from around the world.
URL:https://weleadproject.eu/event/2024-women-in-travel-hospitality-conference/
LOCATION:Los Angeles\, USA\, United States
END:VEVENT
END:VCALENDAR