BEGIN:VCALENDAR
VERSION:2.0
PRODID:-//We Lead Project - ECPv6.15.20//NONSGML v1.0//EN
CALSCALE:GREGORIAN
METHOD:PUBLISH
X-WR-CALNAME:We Lead Project
X-ORIGINAL-URL:https://weleadproject.eu
X-WR-CALDESC:Events for We Lead Project
REFRESH-INTERVAL;VALUE=DURATION:PT1H
X-Robots-Tag:noindex
X-PUBLISHED-TTL:PT1H
BEGIN:VTIMEZONE
TZID:UTC
BEGIN:STANDARD
TZOFFSETFROM:+0000
TZOFFSETTO:+0000
TZNAME:UTC
DTSTART:20240101T000000
END:STANDARD
END:VTIMEZONE
BEGIN:VEVENT
DTSTART;TZID=UTC:20250319T000000
DTEND;TZID=UTC:20250320T235959
DTSTAMP:20260422T215134
CREATED:20240926T130659Z
LAST-MODIFIED:20240926T130659Z
UID:1110-1742342400-1742515199@weleadproject.eu
SUMMARY:FHT Paris – Smart Hotel
DESCRIPTION:The Food Hotel Tech event is the first hospitality trade show of its kind in Paris\, France. This event is exclusively dedicated to the latest digital technologies for hotels and restaurants. It is the ideal exhibition for hotel and restaurant owners to meet tech professionals and seek answers to upcoming challenges. There will be more than 250 exhibitors taking part in this trade show\, with numerous start-ups and a rich program of keynotes and conferences.
URL:https://weleadproject.eu/event/fht-paris-smart-hotel/
END:VEVENT
BEGIN:VEVENT
DTSTART;TZID=UTC:20260201T000000
DTEND;TZID=UTC:20260201T000000
DTSTAMP:20260422T215134
CREATED:20240715T181154Z
LAST-MODIFIED:20240926T130102Z
UID:798-1769904000-1769904000@weleadproject.eu
SUMMARY:Hospitality Expo 2026
DESCRIPTION:Working towards an unparalleled networking event for the Hospitality Industry in Ireland
URL:https://weleadproject.eu/event/hospitality-expo-2026/
LOCATION:RDS\, Dublin\, Ireland
END:VEVENT
END:VCALENDAR