BEGIN:VCALENDAR
VERSION:2.0
PRODID:-//We Lead Project - ECPv6.15.20//NONSGML v1.0//EN
CALSCALE:GREGORIAN
METHOD:PUBLISH
X-ORIGINAL-URL:https://weleadproject.eu
X-WR-CALDESC:Events for We Lead Project
REFRESH-INTERVAL;VALUE=DURATION:PT1H
X-Robots-Tag:noindex
X-PUBLISHED-TTL:PT1H
BEGIN:VTIMEZONE
TZID:UTC
BEGIN:STANDARD
TZOFFSETFROM:+0000
TZOFFSETTO:+0000
TZNAME:UTC
DTSTART:20230101T000000
END:STANDARD
END:VTIMEZONE
BEGIN:VEVENT
DTSTART;TZID=UTC:20240709T140000
DTEND;TZID=UTC:20240709T140000
DTSTAMP:20260422T132757
CREATED:20240715T180408Z
LAST-MODIFIED:20240926T110446Z
UID:762-1720533600-1720533600@weleadproject.eu
SUMMARY:Leading Through Tough Talks: Redundancy Resilience for HR Professionals
DESCRIPTION:Delivering difficult news\, like redundancies\, is an inevitable part of the HR professional's role. That's why it's crucial to empower HR leaders with the resilience and confidence required to navigate these challenging discussions with compassion and effectiveness.
URL:https://weleadproject.eu/event/leading-through-tough-talks-redundancy-resilience-for-hr-professionals/
END:VEVENT
END:VCALENDAR