BEGIN:VCALENDAR
VERSION:2.0
PRODID:-//We Lead Project - ECPv6.15.20//NONSGML v1.0//EN
CALSCALE:GREGORIAN
METHOD:PUBLISH
X-ORIGINAL-URL:https://weleadproject.eu
X-WR-CALDESC:Events for We Lead Project
REFRESH-INTERVAL;VALUE=DURATION:PT1H
X-Robots-Tag:noindex
X-PUBLISHED-TTL:PT1H
BEGIN:VTIMEZONE
TZID:UTC
BEGIN:STANDARD
TZOFFSETFROM:+0000
TZOFFSETTO:+0000
TZNAME:UTC
DTSTART:20230101T000000
END:STANDARD
END:VTIMEZONE
BEGIN:VEVENT
DTSTART;TZID=UTC:20240816T000000
DTEND;TZID=UTC:20240816T235959
DTSTAMP:20260422T150055
CREATED:20240715T180427Z
LAST-MODIFIED:20240926T114124Z
UID:769-1723766400-1723852799@weleadproject.eu
SUMMARY:Lidera equipos de confianza:Impulsa euipos referentes generando Seguridad Psicilogica.
DESCRIPTION:En este evento único\, exploraremos las diversas fases por las que atraviesan las personas dentro de los equipos\, desde las más productivas hasta las potencialmente tóxicas. A través de dinámicas especiales\, fomentaremos la cohesión y la comunicación efectiva en equipos de alto rendimiento.
URL:https://weleadproject.eu/event/lidera-equipos-de-confianzaimpulsa-euipos-referentes-generando-seguridad-psicilogica/
END:VEVENT
END:VCALENDAR