BEGIN:VCALENDAR
VERSION:2.0
PRODID:-//We Lead Project - ECPv6.15.20//NONSGML v1.0//EN
CALSCALE:GREGORIAN
METHOD:PUBLISH
X-ORIGINAL-URL:https://weleadproject.eu
X-WR-CALDESC:Events for We Lead Project
REFRESH-INTERVAL;VALUE=DURATION:PT1H
X-Robots-Tag:noindex
X-PUBLISHED-TTL:PT1H
BEGIN:VTIMEZONE
TZID:UTC
BEGIN:STANDARD
TZOFFSETFROM:+0000
TZOFFSETTO:+0000
TZNAME:UTC
DTSTART:20230101T000000
END:STANDARD
END:VTIMEZONE
BEGIN:VEVENT
DTSTART;TZID=UTC:20241002T110000
DTEND;TZID=UTC:20241002T110000
DTSTAMP:20260422T180843
CREATED:20240715T181153Z
LAST-MODIFIED:20240926T125154Z
UID:794-1727866800-1727866800@weleadproject.eu
SUMMARY:SEAI Webinar - Supports available
DESCRIPTION:Join us for this free hour webinar where we will be joined by Alison Donnellan from SEAI to discuss training and financial supports available for businesses. Alison Donnellan is a Programme Executive on the Business Supports team at SEAI\, she works together with SMEs across all sectors\, guiding them on their journeys towards a greener future. Leveraging her previous experience working with Irish businesses and her academic background in International Development with a focus on Sustainable Development\, Alison empowers businesses to become energy efficient and decarbonise their business
URL:https://weleadproject.eu/event/seai-webinar-supports-available/
LOCATION:Dublin\, Ireland
END:VEVENT
BEGIN:VEVENT
DTSTART;TZID=UTC:20241008T000000
DTEND;TZID=UTC:20241012T235959
DTSTAMP:20260422T180843
CREATED:20240926T112815Z
LAST-MODIFIED:20240926T112815Z
UID:1023-1728345600-1728777599@weleadproject.eu
SUMMARY:WINConference 2024
DESCRIPTION:This conference brings together women from around the world to engage in leadership development\, with a special focus on feminine leadership values and sustainable business practices. It offers workshops\, storytelling sessions\, and networking to inspire change in leadership.
URL:https://weleadproject.eu/event/winconference-2024/
LOCATION:Rome\, Italy\, Italy
END:VEVENT
BEGIN:VEVENT
DTSTART;TZID=UTC:20241010T000000
DTEND;TZID=UTC:20241011T235959
DTSTAMP:20260422T180843
CREATED:20240926T113013Z
LAST-MODIFIED:20240926T113013Z
UID:1029-1728518400-1728691199@weleadproject.eu
SUMMARY:Women’s Leadership Summit - Europe 2024
DESCRIPTION:A leadership-focused event targeting women executives and aspiring leaders\, offering discussions on leadership development\, gender equality\, and diversity initiatives in business.
URL:https://weleadproject.eu/event/womens-leadership-summit-europe-2024/
LOCATION:Amsterdam\, Netherlands\, Netherlands
END:VEVENT
BEGIN:VEVENT
DTSTART;TZID=UTC:20241011T000000
DTEND;TZID=UTC:20241012T235959
DTSTAMP:20260422T180843
CREATED:20240926T111608Z
LAST-MODIFIED:20240926T111608Z
UID:994-1728604800-1728777599@weleadproject.eu
SUMMARY:Global Visionary Women Network
DESCRIPTION:A global platform uniting women leaders from diverse industries to discuss leadership\, innovation\, and empowerment. The event includes keynote speeches\, workshops\, and networking opportunities\, aimed at fostering collaboration and driving positive change in leadership roles globally.
URL:https://weleadproject.eu/event/global-visionary-women-network/
LOCATION:Liverpool Hope University\, UK
END:VEVENT
BEGIN:VEVENT
DTSTART;TZID=UTC:20241014T000000
DTEND;TZID=UTC:20241014T235959
DTSTAMP:20260422T180843
CREATED:20240715T180553Z
LAST-MODIFIED:20240926T115909Z
UID:781-1728864000-1728950399@weleadproject.eu
SUMMARY:Hvad er bæredygtig turisme?
DESCRIPTION:Denne aften stiller vi spørgsmålet: Hvad er bæredygtig turisme?\nDet er oplagt at stille spørgsmålet i Skagen\, som hver sommer vokser eksplosivt i indbyggertal\, når sommergæsterne gør deres indtog – men denne aften er Skagen rammen om debatten og ikke genstand for den. Derimod vil vi diskutere turismen som fænomen og dens konsekvenser for mennesker\, natur og økonomi i det hele taget. For det er givende og lærerigt at rejse\, men hvordan gør man det på en bæredygtig måde? Findes der bæredygtig turisme? Kom med\, diskuter med os og bliv klogere.
URL:https://weleadproject.eu/event/hvad-er-baeredygtig-turisme/
END:VEVENT
BEGIN:VEVENT
DTSTART;TZID=UTC:20241015T000000
DTEND;TZID=UTC:20241015T235959
DTSTAMP:20260422T180843
CREATED:20240715T180754Z
LAST-MODIFIED:20240926T120632Z
UID:788-1728950400-1729036799@weleadproject.eu
SUMMARY:Sustainable Living Summit: How you can act for change
DESCRIPTION:Policymakers\, businesses\, consumers\, academics\, educators… We welcome everyone to save the date and get in on the action as we share an inspiring day and final event in the Sustainable Living programme. Making sustainable choices can be easy – if we work holistically and across sectors to accelerate the transition in a joint effort. \nWe have invited speakers from a number of key sectors and research fields to showcase solutions\, policies\, and guidelines for how to contribute to sustainable lifestyle choices. You can expect research results\, political debate\, networking opportunities\, entertainment and workshop activities throughout the day. Full programme and guest speakers will be announced very soon.
URL:https://weleadproject.eu/event/sustainable-living-summit-how-you-can-act-for-change/
END:VEVENT
BEGIN:VEVENT
DTSTART;TZID=UTC:20241015T000000
DTEND;TZID=UTC:20241015T235959
DTSTAMP:20260422T180843
CREATED:20240926T131848Z
LAST-MODIFIED:20240926T131848Z
UID:1134-1728950400-1729036799@weleadproject.eu
SUMMARY:Hotel360 Expo London
DESCRIPTION:The Hotel360 Expo event is connecting the industry’s most ambitious professionals with the solutions\, services and innovations they need to achieve excellence and stay ahead of the curve.
URL:https://weleadproject.eu/event/hotel360-expo-london/
END:VEVENT
BEGIN:VEVENT
DTSTART;TZID=UTC:20241017T000000
DTEND;TZID=UTC:20241017T235959
DTSTAMP:20260422T180843
CREATED:20240715T180428Z
LAST-MODIFIED:20240926T114418Z
UID:772-1729123200-1729209599@weleadproject.eu
SUMMARY:Jornada de Inteligencia Emocional con Lorena Lichardi
DESCRIPTION:Es fruto de la colaboración con Woman Leader y Lorena Lichardi\, coach de autoimagen para el emprendimiento.Se trata de una Charla abierta sobre Inteligencia Emocional. Es perfecta para ti si quieres emprender con una base sólida\, confianza y seguridad. Lorena nos presentará también un programa de acompañamiento único e innovador\, muy centrado en la persona\, que TRANSFORMARÁ tu vida personal y profesional.
URL:https://weleadproject.eu/event/jornada-de-inteligencia-emocional-con-lorena-lichardi/
END:VEVENT
BEGIN:VEVENT
DTSTART;TZID=UTC:20241017T000000
DTEND;TZID=UTC:20241018T235959
DTSTAMP:20260422T180843
CREATED:20240715T180411Z
LAST-MODIFIED:20240926T110903Z
UID:765-1729123200-1729295999@weleadproject.eu
SUMMARY:III Sustainable Destinations Summit
DESCRIPTION:The Summit will bring together leading experts and high-level decision-makers from across the tourism industry and allied sectors. This gathering aims to facilitate a robust exchange of cutting-edge ideas\, successful strategies and impactful experiences. Our goal is to spearhead the transformation of tourism into a significant force for global good.
URL:https://weleadproject.eu/event/iii-sustainable-destinations-summit/
END:VEVENT
BEGIN:VEVENT
DTSTART;TZID=UTC:20241017T000000
DTEND;TZID=UTC:20241019T235959
DTSTAMP:20260422T180843
CREATED:20240715T180553Z
LAST-MODIFIED:20240926T115819Z
UID:780-1729123200-1729382399@weleadproject.eu
SUMMARY:Arctic Circle
DESCRIPTION:Arctic Circle is the largest network of international dialogue and cooperation on the future of the Arctic and our Planet. It is an open democratic platform with participation from governments\, organizations\, corporations\, universities\, think tanks\, environmental associations\, indigenous communities\, concerned citizens\, and others. It is nonprofit and nonpartisan.
URL:https://weleadproject.eu/event/arctic-circle/
END:VEVENT
BEGIN:VEVENT
DTSTART;TZID=UTC:20241022T000000
DTEND;TZID=UTC:20251031T235959
DTSTAMP:20260422T180843
CREATED:20240715T180539Z
LAST-MODIFIED:20240926T123930Z
UID:778-1729555200-1761955199@weleadproject.eu
SUMMARY:Premio Mujer y Liderzago
DESCRIPTION:DIRIGIDO A MUJERES PROFESIONALES CON ALTO POTENCIAL QUE DESEEN IMPULSAR SU CARRERA A TRAVÉS DE LA FORMACIÓN Y QUE CONECTEN CON NUESTROS VALORES. Objetivo. Visualizar\, Reconocer\, Motivar
URL:https://weleadproject.eu/event/premio-mujer-y-liderzago/
END:VEVENT
BEGIN:VEVENT
DTSTART;TZID=UTC:20241023T000000
DTEND;TZID=UTC:20241026T235959
DTSTAMP:20260422T180843
CREATED:20240715T181153Z
LAST-MODIFIED:20240926T125455Z
UID:796-1729641600-1729987199@weleadproject.eu
SUMMARY:European Collaboration for Smart and Sustainable Cultural Tourism Destinations
DESCRIPTION:The conference aims to explore major challenges\, risks and opportunities for smart\, sustainable and responsible tourism development related to culture and heritage assets\, as well as suggest practical steps for the development and promotion of cultural tourism products. The theme encompasses all forms of culture\, including contemporary cultural expressions\, all forms of cultural heritage and smart solutions
URL:https://weleadproject.eu/event/european-collaboration-for-smart-and-sustainable-cultural-tourism-destinations/
LOCATION:Dublin\, Ireland
END:VEVENT
BEGIN:VEVENT
DTSTART;TZID=UTC:20241024T000000
DTEND;TZID=UTC:20241024T235959
DTSTAMP:20260422T180843
CREATED:20240715T181154Z
LAST-MODIFIED:20240926T125701Z
UID:797-1729728000-1729814399@weleadproject.eu
SUMMARY:All Ireland Sustainability Awards 2024
DESCRIPTION:This event celebrates exceptional efforts in promoting sustainable and eco-friendly practices across various industries\, including tourism. Awards will be given in categories such as Sustainable Tourism & Hospitality Initiative\, Energy Initiative\, and Biodiversity Initiative.
URL:https://weleadproject.eu/event/all-ireland-sustainability-awards-2024/
LOCATION:La Mon Hotel & Country Club\, Belfast
END:VEVENT
END:VCALENDAR